BEGIN:VCALENDAR
VERSION:2.0
PRODID:-//Gurit - ECPv6.15.12.2//NONSGML v1.0//EN
CALSCALE:GREGORIAN
METHOD:PUBLISH
X-ORIGINAL-URL:https://tmp.gurit-resins.com
X-WR-CALDESC:Events for Gurit
REFRESH-INTERVAL;VALUE=DURATION:PT1H
X-Robots-Tag:noindex
X-PUBLISHED-TTL:PT1H
BEGIN:VTIMEZONE
TZID:Europe/Zurich
BEGIN:DAYLIGHT
TZOFFSETFROM:+0100
TZOFFSETTO:+0200
TZNAME:CEST
DTSTART:20240331T010000
END:DAYLIGHT
BEGIN:STANDARD
TZOFFSETFROM:+0200
TZOFFSETTO:+0100
TZNAME:CET
DTSTART:20241027T010000
END:STANDARD
BEGIN:DAYLIGHT
TZOFFSETFROM:+0100
TZOFFSETTO:+0200
TZNAME:CEST
DTSTART:20250330T010000
END:DAYLIGHT
BEGIN:STANDARD
TZOFFSETFROM:+0200
TZOFFSETTO:+0100
TZNAME:CET
DTSTART:20251026T010000
END:STANDARD
BEGIN:DAYLIGHT
TZOFFSETFROM:+0100
TZOFFSETTO:+0200
TZNAME:CEST
DTSTART:20260329T010000
END:DAYLIGHT
BEGIN:STANDARD
TZOFFSETFROM:+0200
TZOFFSETTO:+0100
TZNAME:CET
DTSTART:20261025T010000
END:STANDARD
END:VTIMEZONE
BEGIN:VEVENT
DTSTART;TZID=Europe/Zurich:20250130T080000
DTEND;TZID=Europe/Zurich:20250130T170000
DTSTAMP:20260420T062735
CREATED:20230919T084302Z
LAST-MODIFIED:20250114T151728Z
UID:11864-1738224000-1738256400@tmp.gurit-resins.com
SUMMARY:MEDIA RELEASE ON PRELIMINARY 2024 FULL-YEAR NET SALES & ONLINE ROUNDTABLE
DESCRIPTION:
URL:https://tmp.gurit-resins.com/event/press-release-on-fy-2023-net-sales/
CATEGORIES:financial
END:VEVENT
END:VCALENDAR