BEGIN:VCALENDAR
VERSION:2.0
PRODID:-//Gurit - ECPv6.15.12.2//NONSGML v1.0//EN
CALSCALE:GREGORIAN
METHOD:PUBLISH
X-WR-CALNAME:Gurit
X-ORIGINAL-URL:https://tmp.gurit-resins.com
X-WR-CALDESC:Events for Gurit
REFRESH-INTERVAL;VALUE=DURATION:PT1H
X-Robots-Tag:noindex
X-PUBLISHED-TTL:PT1H
BEGIN:VTIMEZONE
TZID:Europe/Zurich
BEGIN:DAYLIGHT
TZOFFSETFROM:+0100
TZOFFSETTO:+0200
TZNAME:CEST
DTSTART:20230326T010000
END:DAYLIGHT
BEGIN:STANDARD
TZOFFSETFROM:+0200
TZOFFSETTO:+0100
TZNAME:CET
DTSTART:20231029T010000
END:STANDARD
BEGIN:DAYLIGHT
TZOFFSETFROM:+0100
TZOFFSETTO:+0200
TZNAME:CEST
DTSTART:20240331T010000
END:DAYLIGHT
BEGIN:STANDARD
TZOFFSETFROM:+0200
TZOFFSETTO:+0100
TZNAME:CET
DTSTART:20241027T010000
END:STANDARD
BEGIN:DAYLIGHT
TZOFFSETFROM:+0100
TZOFFSETTO:+0200
TZNAME:CEST
DTSTART:20250330T010000
END:DAYLIGHT
BEGIN:STANDARD
TZOFFSETFROM:+0200
TZOFFSETTO:+0100
TZNAME:CET
DTSTART:20251026T010000
END:STANDARD
END:VTIMEZONE
BEGIN:VEVENT
DTSTART;VALUE=DATE:20241002
DTEND;VALUE=DATE:20241004
DTSTAMP:20260423T111105
CREATED:20240905T141559Z
LAST-MODIFIED:20240924T152606Z
UID:13855-1727827200-1727999999@tmp.gurit-resins.com
SUMMARY:Ocean Crusaders Conference
DESCRIPTION:Coomera\, Australia\nCoomera River Clean Up Sponsor
URL:https://tmp.gurit-resins.com/event/ocean-crusaders-conference/
CATEGORIES:trade show
END:VEVENT
BEGIN:VEVENT
DTSTART;VALUE=DATE:20241009
DTEND;VALUE=DATE:20241010
DTSTAMP:20260423T111105
CREATED:20240205T083412Z
LAST-MODIFIED:20240703T132431Z
UID:12604-1728432000-1728518399@tmp.gurit-resins.com
SUMMARY:Capital Markets Day 2024
DESCRIPTION:
URL:https://tmp.gurit-resins.com/event/capital-markets-day-2024/
END:VEVENT
END:VCALENDAR